BEGIN:VCALENDAR
VERSION:2.0
PRODID:-//Sheriff Extra Duty - ECPv6.15.7//NONSGML v1.0//EN
CALSCALE:GREGORIAN
METHOD:PUBLISH
X-ORIGINAL-URL:https://sheriff.andersoncountysc.org
X-WR-CALDESC:Events for Sheriff Extra Duty
REFRESH-INTERVAL;VALUE=DURATION:PT1H
X-Robots-Tag:noindex
X-PUBLISHED-TTL:PT1H
BEGIN:VTIMEZONE
TZID:America/New_York
BEGIN:DAYLIGHT
TZOFFSETFROM:-0500
TZOFFSETTO:-0400
TZNAME:EDT
DTSTART:20250309T070000
END:DAYLIGHT
BEGIN:STANDARD
TZOFFSETFROM:-0400
TZOFFSETTO:-0500
TZNAME:EST
DTSTART:20251102T060000
END:STANDARD
BEGIN:DAYLIGHT
TZOFFSETFROM:-0500
TZOFFSETTO:-0400
TZNAME:EDT
DTSTART:20260308T070000
END:DAYLIGHT
BEGIN:STANDARD
TZOFFSETFROM:-0400
TZOFFSETTO:-0500
TZNAME:EST
DTSTART:20261101T060000
END:STANDARD
BEGIN:DAYLIGHT
TZOFFSETFROM:-0500
TZOFFSETTO:-0400
TZNAME:EDT
DTSTART:20270314T070000
END:DAYLIGHT
BEGIN:STANDARD
TZOFFSETFROM:-0400
TZOFFSETTO:-0500
TZNAME:EST
DTSTART:20271107T060000
END:STANDARD
END:VTIMEZONE
BEGIN:VEVENT
DTSTART;TZID=America/New_York:20260505T060000
DTEND;TZID=America/New_York:20260505T090000
DTSTAMP:20260421T192016
CREATED:20260417T200052Z
LAST-MODIFIED:20260417T182247Z
UID:22251-1777960800-1777971600@sheriff.andersoncountysc.org
SUMMARY:RIVER RESERVE
DESCRIPTION:JOB DETAILS-  ***PATROL THE AREA*** \nREQUESTING A DEPUTY TO PATROL THE AREA AND TICKET TRAFFIC VIOLATIONS *see notes below* \nPLEASE DRIVE AROUND AND BE SEEN \nPLEASE LIMIT YOUR CELL PHONE USAGE WHILE WORKING \nHOURS ARE 6AM-9AM & 3PM-6PM \n$50 PAY RATE \nThey also request that the police do not sit in the pool parking lot- in the past they haven’t moved and have been seen on their phone or sleeping in the car. The BOD President and another BOD member leave very close to the clubhouse.
URL:https://sheriff.andersoncountysc.org/event/river-reserve-7/
LOCATION:RIVER RESERVE COMMUNITY\, 101 ETOWAH LN\, PIEDMONT\, SC\, United States
ATTACH;FMTTYPE=image/png:https://sheriff.andersoncountysc.org/wp-content/uploads/sites/12/2023/07/River-Reserve.png
END:VEVENT
BEGIN:VEVENT
DTSTART;TZID=America/New_York:20260513T150000
DTEND;TZID=America/New_York:20260513T180000
DTSTAMP:20260421T192016
CREATED:20260417T200052Z
LAST-MODIFIED:20260417T183119Z
UID:22252-1778684400-1778695200@sheriff.andersoncountysc.org
SUMMARY:RIVER RESERVE
DESCRIPTION:JOB DETAILS-  ***PATROL THE AREA*** \nREQUESTING A DEPUTY TO PATROL THE AREA AND TICKET TRAFFIC VIOLATIONS *see notes below* \nPLEASE DRIVE AROUND AND BE SEEN \nPLEASE LIMIT YOUR CELL PHONE USAGE WHILE WORKING \nHOURS ARE 6AM-9AM & 3PM-6PM \n$50 PAY RATE \nThey also request that the police do not sit in the pool parking lot- in the past they haven’t moved and have been seen on their phone or sleeping in the car. The BOD President and another BOD member leave very close to the clubhouse.
URL:https://sheriff.andersoncountysc.org/event/river-reserve-7-2026-05-13/
LOCATION:RIVER RESERVE COMMUNITY\, 101 ETOWAH LN\, PIEDMONT\, SC\, United States
ATTACH;FMTTYPE=image/png:https://sheriff.andersoncountysc.org/wp-content/uploads/sites/12/2023/07/River-Reserve.png
END:VEVENT
BEGIN:VEVENT
DTSTART;TZID=America/New_York:20260528T150000
DTEND;TZID=America/New_York:20260528T180000
DTSTAMP:20260421T192016
CREATED:20260417T200052Z
LAST-MODIFIED:20260417T183115Z
UID:22254-1779980400-1779991200@sheriff.andersoncountysc.org
SUMMARY:RIVER RESERVE
DESCRIPTION:JOB DETAILS-  ***PATROL THE AREA*** \nREQUESTING A DEPUTY TO PATROL THE AREA AND TICKET TRAFFIC VIOLATIONS *see notes below* \nPLEASE DRIVE AROUND AND BE SEEN \nPLEASE LIMIT YOUR CELL PHONE USAGE WHILE WORKING \nHOURS ARE 6AM-9AM & 3PM-6PM \n$50 PAY RATE \nThey also request that the police do not sit in the pool parking lot- in the past they haven’t moved and have been seen on their phone or sleeping in the car. The BOD President and another BOD member leave very close to the clubhouse.
URL:https://sheriff.andersoncountysc.org/event/river-reserve-7-2026-05-28/
LOCATION:RIVER RESERVE COMMUNITY\, 101 ETOWAH LN\, PIEDMONT\, SC\, United States
ATTACH;FMTTYPE=image/png:https://sheriff.andersoncountysc.org/wp-content/uploads/sites/12/2023/07/River-Reserve.png
END:VEVENT
END:VCALENDAR