BEGIN:VCALENDAR
VERSION:2.0
PRODID:-//Sheriff Extra Duty - ECPv6.15.7//NONSGML v1.0//EN
CALSCALE:GREGORIAN
METHOD:PUBLISH
X-ORIGINAL-URL:https://sheriff.andersoncountysc.org
X-WR-CALDESC:Events for Sheriff Extra Duty
REFRESH-INTERVAL;VALUE=DURATION:PT1H
X-Robots-Tag:noindex
X-PUBLISHED-TTL:PT1H
BEGIN:VTIMEZONE
TZID:America/New_York
BEGIN:DAYLIGHT
TZOFFSETFROM:-0500
TZOFFSETTO:-0400
TZNAME:EDT
DTSTART:20250309T070000
END:DAYLIGHT
BEGIN:STANDARD
TZOFFSETFROM:-0400
TZOFFSETTO:-0500
TZNAME:EST
DTSTART:20251102T060000
END:STANDARD
BEGIN:DAYLIGHT
TZOFFSETFROM:-0500
TZOFFSETTO:-0400
TZNAME:EDT
DTSTART:20260308T070000
END:DAYLIGHT
BEGIN:STANDARD
TZOFFSETFROM:-0400
TZOFFSETTO:-0500
TZNAME:EST
DTSTART:20261101T060000
END:STANDARD
BEGIN:DAYLIGHT
TZOFFSETFROM:-0500
TZOFFSETTO:-0400
TZNAME:EDT
DTSTART:20270314T070000
END:DAYLIGHT
BEGIN:STANDARD
TZOFFSETFROM:-0400
TZOFFSETTO:-0500
TZNAME:EST
DTSTART:20271107T060000
END:STANDARD
END:VTIMEZONE
BEGIN:VEVENT
DTSTART;TZID=America/New_York:20260422T174500
DTEND;TZID=America/New_York:20260422T204500
DTSTAMP:20260422T234846
CREATED:20260319T200000Z
LAST-MODIFIED:20260422T180802Z
UID:21712-1776879900-1776890700@sheriff.andersoncountysc.org
SUMMARY:FOOTHILLS CHURCH
DESCRIPTION:REQUESTING A DEPUTY FOR WEDNESDAY EVENING SERVICES AT PALMETTO CATERING & EVENT CENTER \n5:45PM-8:45PM    *$60 PAY RATE* \nPLEASE LIMIT CELL PHONE USAGE WHILE WORKING CHECK IN WITH \nRod Smith-864-247-0662 OR Ryan Tate-704-650-0784 \nUPON ARRIVAL \nDO NOT JUST SIT IN THE PARKING LOT
URL:https://sheriff.andersoncountysc.org/event/foothills-church-25-2026-04-22/
LOCATION:PALMETTO CATERING AND EVENT CENTER\, 1410 CHERRY ST EXT\, PENDLETON\, SC\, United States
ATTACH;FMTTYPE=image/jpeg:https://sheriff.andersoncountysc.org/wp-content/uploads/sites/12/2024/10/FOOTHILLS.jpg
END:VEVENT
END:VCALENDAR