BEGIN:VCALENDAR
VERSION:2.0
PRODID:-//Sheriff Extra Duty - ECPv6.15.7//NONSGML v1.0//EN
CALSCALE:GREGORIAN
METHOD:PUBLISH
X-ORIGINAL-URL:https://sheriff.andersoncountysc.org
X-WR-CALDESC:Events for Sheriff Extra Duty
REFRESH-INTERVAL;VALUE=DURATION:PT1H
X-Robots-Tag:noindex
X-PUBLISHED-TTL:PT1H
BEGIN:VTIMEZONE
TZID:America/New_York
BEGIN:DAYLIGHT
TZOFFSETFROM:-0500
TZOFFSETTO:-0400
TZNAME:EDT
DTSTART:20250309T070000
END:DAYLIGHT
BEGIN:STANDARD
TZOFFSETFROM:-0400
TZOFFSETTO:-0500
TZNAME:EST
DTSTART:20251102T060000
END:STANDARD
BEGIN:DAYLIGHT
TZOFFSETFROM:-0500
TZOFFSETTO:-0400
TZNAME:EDT
DTSTART:20260308T070000
END:DAYLIGHT
BEGIN:STANDARD
TZOFFSETFROM:-0400
TZOFFSETTO:-0500
TZNAME:EST
DTSTART:20261101T060000
END:STANDARD
BEGIN:DAYLIGHT
TZOFFSETFROM:-0500
TZOFFSETTO:-0400
TZNAME:EDT
DTSTART:20270314T070000
END:DAYLIGHT
BEGIN:STANDARD
TZOFFSETFROM:-0400
TZOFFSETTO:-0500
TZNAME:EST
DTSTART:20271107T060000
END:STANDARD
END:VTIMEZONE
BEGIN:VEVENT
DTSTART;TZID=America/New_York:20260426T093000
DTEND;TZID=America/New_York:20260426T123000
DTSTAMP:20260424T193833
CREATED:20260323T131116Z
LAST-MODIFIED:20260417T151818Z
UID:21880-1777195800-1777206600@sheriff.andersoncountysc.org
SUMMARY:FAITH FELLOWSHIP BAPTIST CHURCH
DESCRIPTION:REQUESTING LAW ENFORCEMENT PRESENCE AT THE CHURCH DURING SERVICES \nSUNDAY MORNING SERVICES \n9:30AM-12:30PM \n$50 PAY RATE \nPOINT OF CONTACT- GARRETT FRICKS 646-2449 \nPLEASE WALK AROUND A BE SEEN. YOU WILL NEED TO CHECK IN SO THEY ARE AWARE THAT YOU ARE ONSITE.
URL:https://sheriff.andersoncountysc.org/event/faith-fellowship-baptist-church-5-2026-04-26/
LOCATION:FAITH FELLOWSHIP BAPTIST CHURCH\, 2230 OLD GREENVILLE HWY\, PENDLETON\, SC\, United States
ATTACH;FMTTYPE=image/png:https://sheriff.andersoncountysc.org/wp-content/uploads/sites/12/2025/09/Faith-Fellowship.png
END:VEVENT
BEGIN:VEVENT
DTSTART;TZID=America/New_York:20260503T093000
DTEND;TZID=America/New_York:20260503T123000
DTSTAMP:20260424T193833
CREATED:20260323T131116Z
LAST-MODIFIED:20260417T152715Z
UID:22063-1777800600-1777811400@sheriff.andersoncountysc.org
SUMMARY:FAITH FELLOWSHIP BAPTIST CHURCH
DESCRIPTION:REQUESTING LAW ENFORCEMENT PRESENCE AT THE CHURCH DURING SERVICES \nSUNDAY MORNING SERVICES \n9:30AM-12:30PM \n$50 PAY RATE \nPOINT OF CONTACT- GARRETT FRICKS 646-2449 \nPLEASE WALK AROUND A BE SEEN. YOU WILL NEED TO CHECK IN SO THEY ARE AWARE THAT YOU ARE ONSITE.
URL:https://sheriff.andersoncountysc.org/event/faith-fellowship-baptist-church-5-2026-04-26-2026-05-03/
LOCATION:FAITH FELLOWSHIP BAPTIST CHURCH\, 2230 OLD GREENVILLE HWY\, PENDLETON\, SC\, United States
ATTACH;FMTTYPE=image/png:https://sheriff.andersoncountysc.org/wp-content/uploads/sites/12/2025/09/Faith-Fellowship.png
END:VEVENT
BEGIN:VEVENT
DTSTART;TZID=America/New_York:20260510T093000
DTEND;TZID=America/New_York:20260510T123000
DTSTAMP:20260424T193833
CREATED:20260323T131116Z
LAST-MODIFIED:20260417T152705Z
UID:22064-1778405400-1778416200@sheriff.andersoncountysc.org
SUMMARY:FAITH FELLOWSHIP BAPTIST CHURCH
DESCRIPTION:REQUESTING LAW ENFORCEMENT PRESENCE AT THE CHURCH DURING SERVICES \nSUNDAY MORNING SERVICES \n9:30AM-12:30PM \n$50 PAY RATE \nPOINT OF CONTACT- GARRETT FRICKS 646-2449 \nPLEASE WALK AROUND A BE SEEN. YOU WILL NEED TO CHECK IN SO THEY ARE AWARE THAT YOU ARE ONSITE.
URL:https://sheriff.andersoncountysc.org/event/faith-fellowship-baptist-church-5-2026-04-26-2026-05-10/
LOCATION:FAITH FELLOWSHIP BAPTIST CHURCH\, 2230 OLD GREENVILLE HWY\, PENDLETON\, SC\, United States
ATTACH;FMTTYPE=image/png:https://sheriff.andersoncountysc.org/wp-content/uploads/sites/12/2025/09/Faith-Fellowship.png
END:VEVENT
BEGIN:VEVENT
DTSTART;TZID=America/New_York:20260517T093000
DTEND;TZID=America/New_York:20260517T123000
DTSTAMP:20260424T193833
CREATED:20260323T131116Z
LAST-MODIFIED:20260417T152652Z
UID:22065-1779010200-1779021000@sheriff.andersoncountysc.org
SUMMARY:FAITH FELLOWSHIP BAPTIST CHURCH
DESCRIPTION:REQUESTING LAW ENFORCEMENT PRESENCE AT THE CHURCH DURING SERVICES \nSUNDAY MORNING SERVICES \n9:30AM-12:30PM \n$50 PAY RATE \nPOINT OF CONTACT- GARRETT FRICKS 646-2449 \nPLEASE WALK AROUND A BE SEEN. YOU WILL NEED TO CHECK IN SO THEY ARE AWARE THAT YOU ARE ONSITE.
URL:https://sheriff.andersoncountysc.org/event/faith-fellowship-baptist-church-5-2026-04-26-2026-05-17/
LOCATION:FAITH FELLOWSHIP BAPTIST CHURCH\, 2230 OLD GREENVILLE HWY\, PENDLETON\, SC\, United States
ATTACH;FMTTYPE=image/png:https://sheriff.andersoncountysc.org/wp-content/uploads/sites/12/2025/09/Faith-Fellowship.png
END:VEVENT
BEGIN:VEVENT
DTSTART;TZID=America/New_York:20260524T093000
DTEND;TZID=America/New_York:20260524T123000
DTSTAMP:20260424T193833
CREATED:20260323T131116Z
LAST-MODIFIED:20260417T152645Z
UID:22066-1779615000-1779625800@sheriff.andersoncountysc.org
SUMMARY:FAITH FELLOWSHIP BAPTIST CHURCH
DESCRIPTION:REQUESTING LAW ENFORCEMENT PRESENCE AT THE CHURCH DURING SERVICES \nSUNDAY MORNING SERVICES \n9:30AM-12:30PM \n$50 PAY RATE \nPOINT OF CONTACT- GARRETT FRICKS 646-2449 \nPLEASE WALK AROUND A BE SEEN. YOU WILL NEED TO CHECK IN SO THEY ARE AWARE THAT YOU ARE ONSITE.
URL:https://sheriff.andersoncountysc.org/event/faith-fellowship-baptist-church-5-2026-04-26-2026-05-24/
LOCATION:FAITH FELLOWSHIP BAPTIST CHURCH\, 2230 OLD GREENVILLE HWY\, PENDLETON\, SC\, United States
ATTACH;FMTTYPE=image/png:https://sheriff.andersoncountysc.org/wp-content/uploads/sites/12/2025/09/Faith-Fellowship.png
END:VEVENT
BEGIN:VEVENT
DTSTART;TZID=America/New_York:20260531T093000
DTEND;TZID=America/New_York:20260531T123000
DTSTAMP:20260424T193833
CREATED:20260323T131116Z
LAST-MODIFIED:20260417T152639Z
UID:22067-1780219800-1780230600@sheriff.andersoncountysc.org
SUMMARY:FAITH FELLOWSHIP BAPTIST CHURCH
DESCRIPTION:REQUESTING LAW ENFORCEMENT PRESENCE AT THE CHURCH DURING SERVICES \nSUNDAY MORNING SERVICES \n9:30AM-12:30PM \n$50 PAY RATE \nPOINT OF CONTACT- GARRETT FRICKS 646-2449 \nPLEASE WALK AROUND A BE SEEN. YOU WILL NEED TO CHECK IN SO THEY ARE AWARE THAT YOU ARE ONSITE.
URL:https://sheriff.andersoncountysc.org/event/faith-fellowship-baptist-church-5-2026-04-26-2026-05-31/
LOCATION:FAITH FELLOWSHIP BAPTIST CHURCH\, 2230 OLD GREENVILLE HWY\, PENDLETON\, SC\, United States
ATTACH;FMTTYPE=image/png:https://sheriff.andersoncountysc.org/wp-content/uploads/sites/12/2025/09/Faith-Fellowship.png
END:VEVENT
END:VCALENDAR