BEGIN:VCALENDAR
VERSION:2.0
PRODID:-//Sheriff Extra Duty - ECPv6.15.7//NONSGML v1.0//EN
CALSCALE:GREGORIAN
METHOD:PUBLISH
X-WR-CALNAME:Sheriff Extra Duty
X-ORIGINAL-URL:https://sheriff.andersoncountysc.org
X-WR-CALDESC:Events for Sheriff Extra Duty
REFRESH-INTERVAL;VALUE=DURATION:PT1H
X-Robots-Tag:noindex
X-PUBLISHED-TTL:PT1H
BEGIN:VTIMEZONE
TZID:America/New_York
BEGIN:DAYLIGHT
TZOFFSETFROM:-0500
TZOFFSETTO:-0400
TZNAME:EDT
DTSTART:20250309T070000
END:DAYLIGHT
BEGIN:STANDARD
TZOFFSETFROM:-0400
TZOFFSETTO:-0500
TZNAME:EST
DTSTART:20251102T060000
END:STANDARD
BEGIN:DAYLIGHT
TZOFFSETFROM:-0500
TZOFFSETTO:-0400
TZNAME:EDT
DTSTART:20260308T070000
END:DAYLIGHT
BEGIN:STANDARD
TZOFFSETFROM:-0400
TZOFFSETTO:-0500
TZNAME:EST
DTSTART:20261101T060000
END:STANDARD
BEGIN:DAYLIGHT
TZOFFSETFROM:-0500
TZOFFSETTO:-0400
TZNAME:EDT
DTSTART:20270314T070000
END:DAYLIGHT
BEGIN:STANDARD
TZOFFSETFROM:-0400
TZOFFSETTO:-0500
TZNAME:EST
DTSTART:20271107T060000
END:STANDARD
END:VTIMEZONE
BEGIN:VEVENT
DTSTART;TZID=America/New_York:20260501T160000
DTEND;TZID=America/New_York:20260501T233000
DTSTAMP:20260424T115528
CREATED:20260331T200023Z
LAST-MODIFIED:20260331T184037Z
UID:21919-1777651200-1777678200@sheriff.andersoncountysc.org
SUMMARY:2026 GREAT ANDERSON COUNTY FAIR
DESCRIPTION:APRIL 30 – MAY 10 \n*PAY RATE $50 PER HOUR* \nYOU WILL BE ASSIGNED TO A SPECIFIC AREA\, WALK AROUND AND BE SEEN. \nPLEASE LIMIT CELL PHONE USAGE WHILE WORKING
URL:https://sheriff.andersoncountysc.org/event/2026-great-anderson-county-fair-2/
LOCATION:ANDERSON CIVIC CENTER\, 3027 MARTIN LUTHER KING JR BLVD\, ANDERSON\, SC\, 29625\, United States
ATTACH;FMTTYPE=image/png:https://sheriff.andersoncountysc.org/wp-content/uploads/sites/12/2022/04/ANDERSON-FAIR.png
END:VEVENT
BEGIN:VEVENT
DTSTART;TZID=America/New_York:20260502T110000
DTEND;TZID=America/New_York:20260502T170000
DTSTAMP:20260424T115528
CREATED:20260331T200052Z
LAST-MODIFIED:20260331T191756Z
UID:21932-1777719600-1777741200@sheriff.andersoncountysc.org
SUMMARY:2026 GREAT ANDERSON COUNTY FAIR
DESCRIPTION:*PLEASE NOTE THIS IS THE GEORGE STRAIGHT CONCERT DATE AS WELL *  \n***YOU CAN’T WORK BOTH*** \nAPRIL 30 – MAY 10 \n*PAY RATE $50 PER HOUR* \nYOU WILL BE ASSIGNED TO A SPECIFIC AREA\, WALK AROUND AND BE SEEN. \nPLEASE LIMIT CELL PHONE USAGE WHILE WORKING
URL:https://sheriff.andersoncountysc.org/event/2026-great-anderson-county-fair-3/
LOCATION:ANDERSON CIVIC CENTER\, 3027 MARTIN LUTHER KING JR BLVD\, ANDERSON\, SC\, 29625\, United States
ATTACH;FMTTYPE=image/png:https://sheriff.andersoncountysc.org/wp-content/uploads/sites/12/2022/04/ANDERSON-FAIR.png
END:VEVENT
BEGIN:VEVENT
DTSTART;TZID=America/New_York:20260502T170000
DTEND;TZID=America/New_York:20260502T233000
DTSTAMP:20260424T115528
CREATED:20260331T200023Z
LAST-MODIFIED:20260331T191851Z
UID:21920-1777741200-1777764600@sheriff.andersoncountysc.org
SUMMARY:2026 GREAT ANDERSON COUNTY FAIR
DESCRIPTION:*PLEASE NOTE THIS IS THE GEORGE STRAIGHT CONCERT DATE AS WELL* \n***YOU CAN’T WORK BOTH*** \nAPRIL 30 – MAY 10 \n*PAY RATE $50 PER HOUR* \nYOU WILL BE ASSIGNED TO A SPECIFIC AREA\, WALK AROUND AND BE SEEN. \nPLEASE LIMIT CELL PHONE USAGE WHILE WORKING
URL:https://sheriff.andersoncountysc.org/event/2026-great-anderson-county-fair-2-2026-05-02/
LOCATION:ANDERSON CIVIC CENTER\, 3027 MARTIN LUTHER KING JR BLVD\, ANDERSON\, SC\, 29625\, United States
ATTACH;FMTTYPE=image/png:https://sheriff.andersoncountysc.org/wp-content/uploads/sites/12/2022/04/ANDERSON-FAIR.png
END:VEVENT
BEGIN:VEVENT
DTSTART;TZID=America/New_York:20260503T123000
DTEND;TZID=America/New_York:20260503T170000
DTSTAMP:20260424T115528
CREATED:20260331T200022Z
LAST-MODIFIED:20260420T144446Z
UID:21935-1777811400-1777827600@sheriff.andersoncountysc.org
SUMMARY:2026 GREAT ANDERSON COUNTY FAIR
DESCRIPTION:APRIL 30 – MAY 10 \n*PAY RATE $50 PER HOUR* \nYOU WILL BE ASSIGNED TO A SPECIFIC AREA\, WALK AROUND AND BE SEEN. \nPLEASE LIMIT CELL PHONE USAGE WHILE WORKING
URL:https://sheriff.andersoncountysc.org/event/2026-great-anderson-county-fair-4/
LOCATION:ANDERSON CIVIC CENTER\, 3027 MARTIN LUTHER KING JR BLVD\, ANDERSON\, SC\, 29625\, United States
ATTACH;FMTTYPE=image/png:https://sheriff.andersoncountysc.org/wp-content/uploads/sites/12/2022/04/ANDERSON-FAIR.png
END:VEVENT
BEGIN:VEVENT
DTSTART;TZID=America/New_York:20260503T170000
DTEND;TZID=America/New_York:20260503T223000
DTSTAMP:20260424T115528
CREATED:20260331T200023Z
LAST-MODIFIED:20260331T185551Z
UID:21921-1777827600-1777847400@sheriff.andersoncountysc.org
SUMMARY:2026 GREAT ANDERSON COUNTY FAIR
DESCRIPTION:APRIL 30 – MAY 10 \n*PAY RATE $50 PER HOUR* \nYOU WILL BE ASSIGNED TO A SPECIFIC AREA\, WALK AROUND AND BE SEEN. \nPLEASE LIMIT CELL PHONE USAGE WHILE WORKING
URL:https://sheriff.andersoncountysc.org/event/2026-great-anderson-county-fair-2-2026-05-03/
LOCATION:ANDERSON CIVIC CENTER\, 3027 MARTIN LUTHER KING JR BLVD\, ANDERSON\, SC\, 29625\, United States
ATTACH;FMTTYPE=image/png:https://sheriff.andersoncountysc.org/wp-content/uploads/sites/12/2022/04/ANDERSON-FAIR.png
END:VEVENT
BEGIN:VEVENT
DTSTART;TZID=America/New_York:20260508T160000
DTEND;TZID=America/New_York:20260508T233000
DTSTAMP:20260424T115528
CREATED:20260331T200023Z
LAST-MODIFIED:20260331T185555Z
UID:21922-1778256000-1778283000@sheriff.andersoncountysc.org
SUMMARY:2026 GREAT ANDERSON COUNTY FAIR
DESCRIPTION:APRIL 30 – MAY 10 \n*PAY RATE $50 PER HOUR* \nYOU WILL BE ASSIGNED TO A SPECIFIC AREA\, WALK AROUND AND BE SEEN. \nPLEASE LIMIT CELL PHONE USAGE WHILE WORKING
URL:https://sheriff.andersoncountysc.org/event/2026-great-anderson-county-fair-2-2026-05-08/
LOCATION:ANDERSON CIVIC CENTER\, 3027 MARTIN LUTHER KING JR BLVD\, ANDERSON\, SC\, 29625\, United States
ATTACH;FMTTYPE=image/png:https://sheriff.andersoncountysc.org/wp-content/uploads/sites/12/2022/04/ANDERSON-FAIR.png
END:VEVENT
BEGIN:VEVENT
DTSTART;TZID=America/New_York:20260509T170000
DTEND;TZID=America/New_York:20260509T233000
DTSTAMP:20260424T115528
CREATED:20260331T200023Z
LAST-MODIFIED:20260401T130700Z
UID:21923-1778346000-1778369400@sheriff.andersoncountysc.org
SUMMARY:2026 GREAT ANDERSON COUNTY FAIR
DESCRIPTION:APRIL 30 – MAY 10 \n*PAY RATE $50 PER HOUR* \nYOU WILL BE ASSIGNED TO A SPECIFIC AREA\, WALK AROUND AND BE SEEN. \nPLEASE LIMIT CELL PHONE USAGE WHILE WORKING
URL:https://sheriff.andersoncountysc.org/event/2026-great-anderson-county-fair-2-2026-05-09/
LOCATION:ANDERSON CIVIC CENTER\, 3027 MARTIN LUTHER KING JR BLVD\, ANDERSON\, SC\, 29625\, United States
ATTACH;FMTTYPE=image/png:https://sheriff.andersoncountysc.org/wp-content/uploads/sites/12/2022/04/ANDERSON-FAIR.png
END:VEVENT
BEGIN:VEVENT
DTSTART;TZID=America/New_York:20260510T123000
DTEND;TZID=America/New_York:20260510T170000
DTSTAMP:20260424T115528
CREATED:20260331T200022Z
LAST-MODIFIED:20260420T144225Z
UID:21936-1778416200-1778432400@sheriff.andersoncountysc.org
SUMMARY:2026 GREAT ANDERSON COUNTY FAIR
DESCRIPTION:APRIL 30 – MAY 10 \n*PAY RATE $50 PER HOUR* \nYOU WILL BE ASSIGNED TO A SPECIFIC AREA\, WALK AROUND AND BE SEEN. \nPLEASE LIMIT CELL PHONE USAGE WHILE WORKING
URL:https://sheriff.andersoncountysc.org/event/2026-great-anderson-county-fair-4-2026-05-10/
LOCATION:ANDERSON CIVIC CENTER\, 3027 MARTIN LUTHER KING JR BLVD\, ANDERSON\, SC\, 29625\, United States
ATTACH;FMTTYPE=image/png:https://sheriff.andersoncountysc.org/wp-content/uploads/sites/12/2022/04/ANDERSON-FAIR.png
END:VEVENT
BEGIN:VEVENT
DTSTART;TZID=America/New_York:20260510T170000
DTEND;TZID=America/New_York:20260510T223000
DTSTAMP:20260424T115528
CREATED:20260331T200023Z
LAST-MODIFIED:20260331T185610Z
UID:21924-1778432400-1778452200@sheriff.andersoncountysc.org
SUMMARY:2026 GREAT ANDERSON COUNTY FAIR
DESCRIPTION:APRIL 30 – MAY 10 \n*PAY RATE $50 PER HOUR* \nYOU WILL BE ASSIGNED TO A SPECIFIC AREA\, WALK AROUND AND BE SEEN. \nPLEASE LIMIT CELL PHONE USAGE WHILE WORKING
URL:https://sheriff.andersoncountysc.org/event/2026-great-anderson-county-fair-2-2026-05-10/
LOCATION:ANDERSON CIVIC CENTER\, 3027 MARTIN LUTHER KING JR BLVD\, ANDERSON\, SC\, 29625\, United States
ATTACH;FMTTYPE=image/png:https://sheriff.andersoncountysc.org/wp-content/uploads/sites/12/2022/04/ANDERSON-FAIR.png
END:VEVENT
END:VCALENDAR