BEGIN:VCALENDAR
VERSION:2.0
PRODID:-//Sheriff Extra Duty - ECPv6.15.7//NONSGML v1.0//EN
CALSCALE:GREGORIAN
METHOD:PUBLISH
X-ORIGINAL-URL:https://sheriff.andersoncountysc.org
X-WR-CALDESC:Events for Sheriff Extra Duty
REFRESH-INTERVAL;VALUE=DURATION:PT1H
X-Robots-Tag:noindex
X-PUBLISHED-TTL:PT1H
BEGIN:VTIMEZONE
TZID:America/New_York
BEGIN:DAYLIGHT
TZOFFSETFROM:-0500
TZOFFSETTO:-0400
TZNAME:EDT
DTSTART:20250309T070000
END:DAYLIGHT
BEGIN:STANDARD
TZOFFSETFROM:-0400
TZOFFSETTO:-0500
TZNAME:EST
DTSTART:20251102T060000
END:STANDARD
BEGIN:DAYLIGHT
TZOFFSETFROM:-0500
TZOFFSETTO:-0400
TZNAME:EDT
DTSTART:20260308T070000
END:DAYLIGHT
BEGIN:STANDARD
TZOFFSETFROM:-0400
TZOFFSETTO:-0500
TZNAME:EST
DTSTART:20261101T060000
END:STANDARD
BEGIN:DAYLIGHT
TZOFFSETFROM:-0500
TZOFFSETTO:-0400
TZNAME:EDT
DTSTART:20270314T070000
END:DAYLIGHT
BEGIN:STANDARD
TZOFFSETFROM:-0400
TZOFFSETTO:-0500
TZNAME:EST
DTSTART:20271107T060000
END:STANDARD
END:VTIMEZONE
BEGIN:VEVENT
DTSTART;TZID=America/New_York:20260530T200000
DTEND;TZID=America/New_York:20260531T000000
DTSTAMP:20260424T041652
CREATED:20260220T210005Z
LAST-MODIFIED:20260417T175720Z
UID:22192-1780171200-1780185600@sheriff.andersoncountysc.org
SUMMARY:LOUIE'S
DESCRIPTION:REQUESTING A DEPUTY FOR SECURITY \nTHURSDAY\, FRIDAY\, & SATURDAY NIGHTS \nTIMES WILL VARY \n$50 PAY RATE \nPLEASE LIMIT CELL PHONE USAGE WHILE WORKING\, PLEASE WALK AROUND AND BE SEEN
URL:https://sheriff.andersoncountysc.org/event/louies-13-2026-03-28-2026-04-25-2026-05-30/
LOCATION:LOUIE’S BAR AND GRILL\, 100 ELECTRIC CITY BLVD\, ANDERSON\, SC\, United States
ATTACH;FMTTYPE=image/jpeg:https://sheriff.andersoncountysc.org/wp-content/uploads/sites/12/2025/08/LOUIES.jpg
END:VEVENT
BEGIN:VEVENT
DTSTART;TZID=America/New_York:20260531T081500
DTEND;TZID=America/New_York:20260531T121500
DTSTAMP:20260424T041652
CREATED:20260220T210027Z
LAST-MODIFIED:20260417T153556Z
UID:22115-1780215300-1780229700@sheriff.andersoncountysc.org
SUMMARY:HOPE FELLOWSHIP
DESCRIPTION:REQUESTING A DEPUTY FOR SUNDAY MORNING AND WEDNESDAY SERVICES \n$50 PAY RATE \nSunday – Youth Position 8:15am-12:15pm \nWednesday – Youth Position 6pm-9pm \nPark left of main entrance\, provide security in back right corner for Hope Kids. \nPOC: Rick Davis (864)617-5028
URL:https://sheriff.andersoncountysc.org/event/hope-fellowship-14-2026-03-29-2026-04-26-2026-05-31/
LOCATION:HOPE FELLOWSHIP\, 213 BROWN RD\, ANDERSON\, SC\, United States
ATTACH;FMTTYPE=image/jpeg:https://sheriff.andersoncountysc.org/wp-content/uploads/sites/12/2025/03/HOPE-FELLOWSHIP.jpg
END:VEVENT
BEGIN:VEVENT
DTSTART;TZID=America/New_York:20260531T081500
DTEND;TZID=America/New_York:20260531T121500
DTSTAMP:20260424T041652
CREATED:20260220T210057Z
LAST-MODIFIED:20260417T153554Z
UID:22120-1780215300-1780229700@sheriff.andersoncountysc.org
SUMMARY:HOPE FELLOWSHIP
DESCRIPTION:REQUESTING A DEPUTY FOR SUNDAY MORNING SERVICES \n$50 PAY RATE \nSunday – Traffic Position \nPark left of main entrance\, provide security in lobby and traffic direction after each service. \nHours: 8:15am-12:15pm \nPOC: Rick Davis (864)617-5028
URL:https://sheriff.andersoncountysc.org/event/hope-fellowship-13-2026-03-27-2026-03-29-2026-04-26-2026-05-31/
LOCATION:HOPE FELLOWSHIP\, 213 BROWN RD\, ANDERSON\, SC\, United States
ATTACH;FMTTYPE=image/jpeg:https://sheriff.andersoncountysc.org/wp-content/uploads/sites/12/2025/03/HOPE-FELLOWSHIP.jpg
END:VEVENT
BEGIN:VEVENT
DTSTART;TZID=America/New_York:20260531T083000
DTEND;TZID=America/New_York:20260531T123000
DTSTAMP:20260424T041652
CREATED:20260415T123327Z
LAST-MODIFIED:20260417T154311Z
UID:22153-1780216200-1780230600@sheriff.andersoncountysc.org
SUMMARY:PENDLETON METHODIST CHURCH
DESCRIPTION:REQUESTING LAW ENFORCEMENT PRESENCE AT THE CHURCH DURING SERVICES \nSUNDAY MORNING SERVICES \n8:30AM-12:30PM \n$50 PAY RATE
URL:https://sheriff.andersoncountysc.org/event/pendleton-methodist-church-2026-04-26-2026-05-31/
LOCATION:PENDLETON METHODIST CHURCH\, 217 S BROAD ST\, PENDLETON\, SC\, United States
ATTACH;FMTTYPE=image/jpeg:https://sheriff.andersoncountysc.org/wp-content/uploads/sites/12/2026/04/PENDLETON-METHODIST.jpg
END:VEVENT
BEGIN:VEVENT
DTSTART;TZID=America/New_York:20260531T084500
DTEND;TZID=America/New_York:20260531T114500
DTSTAMP:20260424T041652
CREATED:20260220T210016Z
LAST-MODIFIED:20260417T153552Z
UID:22130-1780217100-1780227900@sheriff.andersoncountysc.org
SUMMARY:MOUNTAIN SPRING BAPTIST CHURCH
DESCRIPTION:REQUESTING LAW ENFORCEMENT PRESENCE AT THE CHURCH DURING SERVICES \nSUNDAY MORNING SERVICES \n8:45AM-11:45AM \n$40 PAY RATE
URL:https://sheriff.andersoncountysc.org/event/mountain-spring-baptist-church-21-2026-03-29-2026-04-26-2026-05-31/
LOCATION:MOUNTAIN SPRING BAPTIST CHURCH\, 4801 Liberty Hwy\, Anderson\, SC\, United States
ATTACH;FMTTYPE=image/jpeg:https://sheriff.andersoncountysc.org/wp-content/uploads/sites/12/2023/07/1D96873B-4A81-45A9-B486-15047A27351C.jpeg
END:VEVENT
BEGIN:VEVENT
DTSTART;TZID=America/New_York:20260531T090000
DTEND;TZID=America/New_York:20260531T120000
DTSTAMP:20260424T041652
CREATED:20251020T152659Z
LAST-MODIFIED:20260417T152641Z
UID:22062-1780218000-1780228800@sheriff.andersoncountysc.org
SUMMARY:COVENANT PRESBYTERIAN CHURCH
DESCRIPTION:REQUESTING LAW ENFORCEMENT PRESENCE AT THE CHURCH DURING SERVICES \nSUNDAY MORNING SERVICES \n9AM-12PM \n$40 PAY RATE
URL:https://sheriff.andersoncountysc.org/event/covenant-presbyterian-church-6-2026-03-01-2026-03-29-2026-04-26-2026-05-31/
LOCATION:COVENANT PRESBYTERIAN CHURCH\, 4500 HIGHWAY 86\, EASLEY
ATTACH;FMTTYPE=image/png:https://sheriff.andersoncountysc.org/wp-content/uploads/sites/12/2023/01/covenant.png
END:VEVENT
BEGIN:VEVENT
DTSTART;TZID=America/New_York:20260531T093000
DTEND;TZID=America/New_York:20260531T123000
DTSTAMP:20260424T041652
CREATED:20260323T131116Z
LAST-MODIFIED:20260417T152639Z
UID:22067-1780219800-1780230600@sheriff.andersoncountysc.org
SUMMARY:FAITH FELLOWSHIP BAPTIST CHURCH
DESCRIPTION:REQUESTING LAW ENFORCEMENT PRESENCE AT THE CHURCH DURING SERVICES \nSUNDAY MORNING SERVICES \n9:30AM-12:30PM \n$50 PAY RATE \nPOINT OF CONTACT- GARRETT FRICKS 646-2449 \nPLEASE WALK AROUND A BE SEEN. YOU WILL NEED TO CHECK IN SO THEY ARE AWARE THAT YOU ARE ONSITE.
URL:https://sheriff.andersoncountysc.org/event/faith-fellowship-baptist-church-5-2026-04-26-2026-05-31/
LOCATION:FAITH FELLOWSHIP BAPTIST CHURCH\, 2230 OLD GREENVILLE HWY\, PENDLETON\, SC\, United States
ATTACH;FMTTYPE=image/png:https://sheriff.andersoncountysc.org/wp-content/uploads/sites/12/2025/09/Faith-Fellowship.png
END:VEVENT
BEGIN:VEVENT
DTSTART;TZID=America/New_York:20260531T100000
DTEND;TZID=America/New_York:20260531T123000
DTSTAMP:20260424T041652
CREATED:20260220T210023Z
LAST-MODIFIED:20260417T152637Z
UID:22057-1780221600-1780230600@sheriff.andersoncountysc.org
SUMMARY:1334 CHURCH/MARATHON CHURCH
DESCRIPTION:SUNDAY MORNING SERVICES \n10AM-12:30PM \nVOLUNTEERS WILL ARRIVE AT 10AM. SERVICE IS FROM 10:30AM-12PM \n***YOU MUST GO INSIDE WHEN YOU ARRIVE AND BEFORE YOU LEAVE TO RECEIVE INSTRUCTIONS*** \nDO NOT JUST PARK AT THE END OF THE LOT AND SIT \n***NEW LOCATION/TIME- AMPLIFY SPORTS 100 POWERS BLVD. PIEDMONT SC*** \n$50 PAY RATE
URL:https://sheriff.andersoncountysc.org/event/1334-church-marathon-church-3-2026-03-29-2026-04-26-2026-05-31/
LOCATION:Private: AMPLIFY SPORTS\, 100 POWERS BLVD\, PIEDMONT\, United States
ATTACH;FMTTYPE=image/jpeg:https://sheriff.andersoncountysc.org/wp-content/uploads/sites/12/2026/01/1334-Church.jpg
END:VEVENT
BEGIN:VEVENT
DTSTART;TZID=America/New_York:20260531T103000
DTEND;TZID=America/New_York:20260531T133000
DTSTAMP:20260424T041652
CREATED:20260220T210021Z
LAST-MODIFIED:20260417T180106Z
UID:22158-1780223400-1780234200@sheriff.andersoncountysc.org
SUMMARY:REDEMPTION CHURCH
DESCRIPTION:SUNDAY MORNING SERVICES \nASSISTING WITH TRAFFIC CONTROL (1 WORKING THE LIGHT) \nREQUESTING 2 DEPUTIES \n10:30AM-1:30PM (USUALLY DONE BY 1PM) \n$60 PAY RATE \nLOCATED AT 315 ROE RD. GREENVILLE
URL:https://sheriff.andersoncountysc.org/event/redemption-church-13-2026-03-29-2026-04-26-2026-05-31/
LOCATION:MARATHON CHURCH\, 315 ROE RD\, GREENVILLE\, SC\, 29611\, United States
ATTACH;FMTTYPE=image/jpeg:https://sheriff.andersoncountysc.org/wp-content/uploads/sites/12/2024/08/redemption-2.jpg
END:VEVENT
END:VCALENDAR