BEGIN:VCALENDAR
VERSION:2.0
PRODID:-//Sheriff Extra Duty - ECPv6.15.7//NONSGML v1.0//EN
CALSCALE:GREGORIAN
METHOD:PUBLISH
X-ORIGINAL-URL:https://sheriff.andersoncountysc.org
X-WR-CALDESC:Events for Sheriff Extra Duty
REFRESH-INTERVAL;VALUE=DURATION:PT1H
X-Robots-Tag:noindex
X-PUBLISHED-TTL:PT1H
BEGIN:VTIMEZONE
TZID:America/New_York
BEGIN:DAYLIGHT
TZOFFSETFROM:-0500
TZOFFSETTO:-0400
TZNAME:EDT
DTSTART:20250309T070000
END:DAYLIGHT
BEGIN:STANDARD
TZOFFSETFROM:-0400
TZOFFSETTO:-0500
TZNAME:EST
DTSTART:20251102T060000
END:STANDARD
BEGIN:DAYLIGHT
TZOFFSETFROM:-0500
TZOFFSETTO:-0400
TZNAME:EDT
DTSTART:20260308T070000
END:DAYLIGHT
BEGIN:STANDARD
TZOFFSETFROM:-0400
TZOFFSETTO:-0500
TZNAME:EST
DTSTART:20261101T060000
END:STANDARD
BEGIN:DAYLIGHT
TZOFFSETFROM:-0500
TZOFFSETTO:-0400
TZNAME:EDT
DTSTART:20270314T070000
END:DAYLIGHT
BEGIN:STANDARD
TZOFFSETFROM:-0400
TZOFFSETTO:-0500
TZNAME:EST
DTSTART:20271107T060000
END:STANDARD
END:VTIMEZONE
BEGIN:VEVENT
DTSTART;TZID=America/New_York:20260423T193000
DTEND;TZID=America/New_York:20260423T233000
DTSTAMP:20260424T111427
CREATED:20260220T210005Z
LAST-MODIFIED:20260422T180824Z
UID:21796-1776972600-1776987000@sheriff.andersoncountysc.org
SUMMARY:LOUIE'S
DESCRIPTION:REQUESTING A DEPUTY FOR SECURITY \nTHURSDAY\, FRIDAY\, & SATURDAY NIGHTS \nTIMES WILL VARY \n$50 PAY RATE \nPLEASE LIMIT CELL PHONE USAGE WHILE WORKING\, PLEASE WALK AROUND AND BE SEEN
URL:https://sheriff.andersoncountysc.org/event/louies-13-2026-03-26-2026-04-23/
LOCATION:LOUIE’S BAR AND GRILL\, 100 ELECTRIC CITY BLVD\, ANDERSON\, SC\, United States
ATTACH;FMTTYPE=image/jpeg:https://sheriff.andersoncountysc.org/wp-content/uploads/sites/12/2025/08/LOUIES.jpg
END:VEVENT
BEGIN:VEVENT
DTSTART;TZID=America/New_York:20260424T120000
DTEND;TZID=America/New_York:20260424T170000
DTSTAMP:20260424T111427
CREATED:20260423T152952Z
LAST-MODIFIED:20260423T152952Z
UID:22299-1777032000-1777050000@sheriff.andersoncountysc.org
SUMMARY:ELECTROLUX
DESCRIPTION:REQUESTING A DEPUTY ONSIDE DUE TO AN EMPLOYEE ISSUE \nFRIDAY\,  APRIL 24  12PM-5PM \n$50 PAY RATE \nPOINT OF CONTACT – CAPTAIN TYRONE WILLIAMS
URL:https://sheriff.andersoncountysc.org/event/electrolux/
LOCATION:ELECTROLUX\, 101 MASTERS BLVD\, ANDERSON\, SC\, United States
ATTACH;FMTTYPE=image/jpeg:https://sheriff.andersoncountysc.org/wp-content/uploads/sites/12/2022/04/electrolux.jpg
END:VEVENT
BEGIN:VEVENT
DTSTART;TZID=America/New_York:20260424T180000
DTEND;TZID=America/New_York:20260424T220000
DTSTAMP:20260424T111427
CREATED:20260423T154323Z
LAST-MODIFIED:20260423T154323Z
UID:22301-1777053600-1777068000@sheriff.andersoncountysc.org
SUMMARY:ANDERSON MALL CARNIVAL W/APD
DESCRIPTION:REQUESTING 3 DEPUTIES TO ASSIST THE CITY WITH COVERAGE FOR THE CARNIVAL AT THE ANDERSON MALL \nFRIDAY\, APRIL 24  6PM-10PM \nSATURDAY\, APRIL 25  4PM-10PM \n$50 PAY RATE \nPLEASE WALK AROUND AND BE SEEN. LIMIT CELL PHONE USAGE WHILE WORKING.
URL:https://sheriff.andersoncountysc.org/event/anderson-mall-carnival-w-apd/
LOCATION:ANDERSON MALL\, 3131 N MAIN ST\, ANDERSON\, SC\, 29625\, United States
ATTACH;FMTTYPE=image/jpeg:https://sheriff.andersoncountysc.org/wp-content/uploads/sites/12/2026/04/mall-carnival.jpg
END:VEVENT
BEGIN:VEVENT
DTSTART;TZID=America/New_York:20260424T210000
DTEND;TZID=America/New_York:20260425T070000
DTSTAMP:20260424T111427
CREATED:20260313T200030Z
LAST-MODIFIED:20260422T180903Z
UID:21963-1777064400-1777100400@sheriff.andersoncountysc.org
SUMMARY:REEVES CONSTRUCTION / FOR SCHP
DESCRIPTION:REQUESTING A DEPUTY TO ASSIST SCHP TO SLOW TRAFFIC WHILE CONSTRUCTION CREW WORKS ON I-85. *THEY MAY GO OUTSIDE THE COUNTY OF ANDERSON INTO OCONEE BUT THIS HAS BEEN APPOVED UNDER MUTUAL AID* \n$50 PAY RATE  **YOU MUST EMAIL ME THE EXACT HOURS YOU WORK** \nNIGHTLY\, PLEASE REACH OUT TO LET ME KNOW THE IF YOU WORK PAST THE HOURS STATED \nPOINT OF CONTACT… \nMR. CHEN 8646125419 ****PLEASE CALL HIM WHEN ENROUTE****
URL:https://sheriff.andersoncountysc.org/event/reeves-construction-for-schp-27-2026-03-25-2026-04-01-2026-04-24/
LOCATION:SC
ATTACH;FMTTYPE=image/jpeg:https://sheriff.andersoncountysc.org/wp-content/uploads/sites/12/2025/04/REEVES-CONSTRUCTION.jpg
END:VEVENT
BEGIN:VEVENT
DTSTART;TZID=America/New_York:20260425T160000
DTEND;TZID=America/New_York:20260425T220000
DTSTAMP:20260424T111427
CREATED:20260423T154323Z
LAST-MODIFIED:20260423T171505Z
UID:22303-1777132800-1777154400@sheriff.andersoncountysc.org
SUMMARY:ANDERSON MALL CARNIVAL W/APD
DESCRIPTION:REQUESTING 3 DEPUTIES TO ASSIST THE CITY WITH COVERAGE FOR THE CARNIVAL AT THE ANDERSON MALL \nFRIDAY\, APRIL 24  6PM-10PM \nSATURDAY\, APRIL 25  4PM-10PM \n$50 PAY RATE \nPLEASE WALK AROUND AND BE SEEN. LIMIT CELL PHONE USAGE WHILE WORKING.
URL:https://sheriff.andersoncountysc.org/event/anderson-mall-carnival-w-apd-2026-04-25/
LOCATION:ANDERSON MALL\, 3131 N MAIN ST\, ANDERSON\, SC\, 29625\, United States
ATTACH;FMTTYPE=image/jpeg:https://sheriff.andersoncountysc.org/wp-content/uploads/sites/12/2026/04/mall-carnival.jpg
END:VEVENT
BEGIN:VEVENT
DTSTART;TZID=America/New_York:20260426T090000
DTEND;TZID=America/New_York:20260426T120000
DTSTAMP:20260424T111427
CREATED:20251020T152659Z
LAST-MODIFIED:20260417T151708Z
UID:21699-1777194000-1777204800@sheriff.andersoncountysc.org
SUMMARY:COVENANT PRESBYTERIAN CHURCH
DESCRIPTION:REQUESTING LAW ENFORCEMENT PRESENCE AT THE CHURCH DURING SERVICES \nSUNDAY MORNING SERVICES \n9AM-12PM \n$40 PAY RATE
URL:https://sheriff.andersoncountysc.org/event/covenant-presbyterian-church-6-2026-03-01-2026-03-29-2026-04-26/
LOCATION:COVENANT PRESBYTERIAN CHURCH\, 4500 HIGHWAY 86\, EASLEY
ATTACH;FMTTYPE=image/png:https://sheriff.andersoncountysc.org/wp-content/uploads/sites/12/2023/01/covenant.png
END:VEVENT
BEGIN:VEVENT
DTSTART;TZID=America/New_York:20260426T090000
DTEND;TZID=America/New_York:20260426T130000
DTSTAMP:20260424T111427
CREATED:20260220T210057Z
LAST-MODIFIED:20260420T140840Z
UID:21726-1777194000-1777208400@sheriff.andersoncountysc.org
SUMMARY:HOPE FELLOWSHIP
DESCRIPTION:REQUESTING A DEPUTY FOR SUNDAY MORNING SERVICES \n$50 PAY RATE \nSunday – Traffic Position \nPark left of main entrance\, provide security in lobby and traffic direction after each service. \nHours: 9am-1pm \nPOC: Rick Davis (864)617-5028
URL:https://sheriff.andersoncountysc.org/event/hope-fellowship-13-2026-03-27-2026-03-29-2026-04-26/
LOCATION:HOPE FELLOWSHIP\, 213 BROWN RD\, ANDERSON\, SC\, United States
ATTACH;FMTTYPE=image/jpeg:https://sheriff.andersoncountysc.org/wp-content/uploads/sites/12/2025/03/HOPE-FELLOWSHIP.jpg
END:VEVENT
BEGIN:VEVENT
DTSTART;TZID=America/New_York:20260426T093000
DTEND;TZID=America/New_York:20260426T123000
DTSTAMP:20260424T111427
CREATED:20260220T210017Z
LAST-MODIFIED:20260423T153310Z
UID:21703-1777195800-1777206600@sheriff.andersoncountysc.org
SUMMARY:GOSPEL LIGHT BAPTIST CHURCH
DESCRIPTION:SUNDAY MORNING SERVICES \nASSISTING WITH TRAFFIC CONTROL \n9:30AM-12:30PM \n$60 PAY RATE \nPLEASE LIMIT CELL PHONE USAGE WHILE WORKING
URL:https://sheriff.andersoncountysc.org/event/gospel-light-baptist-church-17-2026-03-29-2026-04-26/
LOCATION:GOSPEL LIGHT CHURCH\, 3000 MIDWAY RD\, ANDERSON\, SC\, United States
ATTACH;FMTTYPE=image/jpeg:https://sheriff.andersoncountysc.org/wp-content/uploads/sites/12/2023/10/Gospel-Light.jpg
END:VEVENT
BEGIN:VEVENT
DTSTART;TZID=America/New_York:20260426T093000
DTEND;TZID=America/New_York:20260426T123000
DTSTAMP:20260424T111427
CREATED:20260323T131116Z
LAST-MODIFIED:20260417T151818Z
UID:21880-1777195800-1777206600@sheriff.andersoncountysc.org
SUMMARY:FAITH FELLOWSHIP BAPTIST CHURCH
DESCRIPTION:REQUESTING LAW ENFORCEMENT PRESENCE AT THE CHURCH DURING SERVICES \nSUNDAY MORNING SERVICES \n9:30AM-12:30PM \n$50 PAY RATE \nPOINT OF CONTACT- GARRETT FRICKS 646-2449 \nPLEASE WALK AROUND A BE SEEN. YOU WILL NEED TO CHECK IN SO THEY ARE AWARE THAT YOU ARE ONSITE.
URL:https://sheriff.andersoncountysc.org/event/faith-fellowship-baptist-church-5-2026-04-26/
LOCATION:FAITH FELLOWSHIP BAPTIST CHURCH\, 2230 OLD GREENVILLE HWY\, PENDLETON\, SC\, United States
ATTACH;FMTTYPE=image/png:https://sheriff.andersoncountysc.org/wp-content/uploads/sites/12/2025/09/Faith-Fellowship.png
END:VEVENT
BEGIN:VEVENT
DTSTART;TZID=America/New_York:20260426T100000
DTEND;TZID=America/New_York:20260426T123000
DTSTAMP:20260424T111427
CREATED:20260220T210023Z
LAST-MODIFIED:20260417T151602Z
UID:21695-1777197600-1777206600@sheriff.andersoncountysc.org
SUMMARY:1334 CHURCH/MARATHON CHURCH
DESCRIPTION:SUNDAY MORNING SERVICES \n10AM-12:30PM \nVOLUNTEERS WILL ARRIVE AT 10AM. SERVICE IS FROM 10:30AM-12PM \n***YOU MUST GO INSIDE WHEN YOU ARRIVE AND BEFORE YOU LEAVE TO RECEIVE INSTRUCTIONS*** \nDO NOT JUST PARK AT THE END OF THE LOT AND SIT \n***NEW LOCATION/TIME- AMPLIFY SPORTS 100 POWERS BLVD. PIEDMONT SC*** \n$50 PAY RATE
URL:https://sheriff.andersoncountysc.org/event/1334-church-marathon-church-3-2026-03-29-2026-04-26/
LOCATION:Private: AMPLIFY SPORTS\, 100 POWERS BLVD\, PIEDMONT\, United States
ATTACH;FMTTYPE=image/jpeg:https://sheriff.andersoncountysc.org/wp-content/uploads/sites/12/2026/01/1334-Church.jpg
END:VEVENT
BEGIN:VEVENT
DTSTART;TZID=America/New_York:20260426T103000
DTEND;TZID=America/New_York:20260426T133000
DTSTAMP:20260424T111427
CREATED:20260220T210021Z
LAST-MODIFIED:20260417T180943Z
UID:21767-1777199400-1777210200@sheriff.andersoncountysc.org
SUMMARY:REDEMPTION CHURCH
DESCRIPTION:SUNDAY MORNING SERVICES \nASSISTING WITH TRAFFIC CONTROL (1 WORKING THE LIGHT) \nREQUESTING 2 DEPUTIES \n10:30AM-1:30PM (USUALLY DONE BY 1PM) \n$60 PAY RATE \nLOCATED AT 315 ROE RD. GREENVILLE
URL:https://sheriff.andersoncountysc.org/event/redemption-church-13-2026-03-29-2026-04-26/
LOCATION:MARATHON CHURCH\, 315 ROE RD\, GREENVILLE\, SC\, 29611\, United States
ATTACH;FMTTYPE=image/jpeg:https://sheriff.andersoncountysc.org/wp-content/uploads/sites/12/2024/08/redemption-2.jpg
END:VEVENT
BEGIN:VEVENT
DTSTART;TZID=America/New_York:20260427T073000
DTEND;TZID=America/New_York:20260427T113000
DTSTAMP:20260424T111427
CREATED:20260220T210035Z
LAST-MODIFIED:20260319T130402Z
UID:21784-1777275000-1777289400@sheriff.andersoncountysc.org
SUMMARY:ANDERSON CHRISTIAN SCHOOL
DESCRIPTION:REQUESTING A DEPUTY’S PRESENCE AT THE SCHOOL \nPLEASE WALK AROUND AND BE SEEN \n ***YOU WILL NEED TO check in WITH THE OFFICE*** Point of Contact- Joe Hulsey 803.604.2112 if there are any issues. \n**Please remind them to come see me in the lower building** (below the church\, on the back side) when they arrive \nDO NOT JUST SIT IN YOUR CAR \nPLEASE LIMIT YOUR CELL PHONE USAGE WHILE WORKING \n$50 PAY RATE
URL:https://sheriff.andersoncountysc.org/event/anderson-christian-school-8-2026-03-26-2026-04-27/
LOCATION:ANDERSON CHRISTIAN SCHOOL\, 3902 LIBERTY HWY\, ANDERSON\, SC\, United States
ATTACH;FMTTYPE=image/jpeg:https://sheriff.andersoncountysc.org/wp-content/uploads/sites/12/2024/11/anderson-christian-school-logo.jpg
END:VEVENT
BEGIN:VEVENT
DTSTART;TZID=America/New_York:20260427T073000
DTEND;TZID=America/New_York:20260427T113000
DTSTAMP:20260424T111427
CREATED:20260319T200017Z
LAST-MODIFIED:20260319T133054Z
UID:21833-1777275000-1777289400@sheriff.andersoncountysc.org
SUMMARY:NEW COVENANT SCHOOL
DESCRIPTION:REQUESTING A DEPUTY’S PRESENCE AT THE SCHOOL \nPLEASE WALK AROUND AND BE SEEN \nDO NOT JUST SIT IN YOUR CAR \nPLEASE LIMIT YOUR CELL PHONE USAGE WHILE WORKING \n$40 PAY RATE
URL:https://sheriff.andersoncountysc.org/event/new-covenant-school-16-2026-04-27/
LOCATION:NEW COVENANT SCHOOL\, 303 SIMPSON RD\, ANDERSON\, SC\, 29621\, United States
ATTACH;FMTTYPE=image/png:https://sheriff.andersoncountysc.org/wp-content/uploads/sites/12/2024/08/NEW-COVENANT.png
END:VEVENT
BEGIN:VEVENT
DTSTART;TZID=America/New_York:20260501T160000
DTEND;TZID=America/New_York:20260501T233000
DTSTAMP:20260424T111427
CREATED:20260331T200023Z
LAST-MODIFIED:20260331T184037Z
UID:21919-1777651200-1777678200@sheriff.andersoncountysc.org
SUMMARY:2026 GREAT ANDERSON COUNTY FAIR
DESCRIPTION:APRIL 30 – MAY 10 \n*PAY RATE $50 PER HOUR* \nYOU WILL BE ASSIGNED TO A SPECIFIC AREA\, WALK AROUND AND BE SEEN. \nPLEASE LIMIT CELL PHONE USAGE WHILE WORKING
URL:https://sheriff.andersoncountysc.org/event/2026-great-anderson-county-fair-2/
LOCATION:ANDERSON CIVIC CENTER\, 3027 MARTIN LUTHER KING JR BLVD\, ANDERSON\, SC\, 29625\, United States
ATTACH;FMTTYPE=image/png:https://sheriff.andersoncountysc.org/wp-content/uploads/sites/12/2022/04/ANDERSON-FAIR.png
END:VEVENT
BEGIN:VEVENT
DTSTART;TZID=America/New_York:20260501T203000
DTEND;TZID=America/New_York:20260502T003000
DTSTAMP:20260424T111427
CREATED:20260220T210005Z
LAST-MODIFIED:20260417T175931Z
UID:22208-1777667400-1777681800@sheriff.andersoncountysc.org
SUMMARY:LOUIE'S
DESCRIPTION:REQUESTING A DEPUTY FOR SECURITY \nTHURSDAY\, FRIDAY\, & SATURDAY NIGHTS \nTIMES WILL VARY \n$50 PAY RATE \nPLEASE LIMIT CELL PHONE USAGE WHILE WORKING\, PLEASE WALK AROUND AND BE SEEN
URL:https://sheriff.andersoncountysc.org/event/louies-13-2026-03-26-2026-04-23-2026-04-30-2026-05-01/
LOCATION:LOUIE’S BAR AND GRILL\, 100 ELECTRIC CITY BLVD\, ANDERSON\, SC\, United States
ATTACH;FMTTYPE=image/jpeg:https://sheriff.andersoncountysc.org/wp-content/uploads/sites/12/2025/08/LOUIES.jpg
END:VEVENT
BEGIN:VEVENT
DTSTART;TZID=America/New_York:20260501T210000
DTEND;TZID=America/New_York:20260502T070000
DTSTAMP:20260424T111427
CREATED:20260313T200030Z
LAST-MODIFIED:20260401T183514Z
UID:21969-1777669200-1777705200@sheriff.andersoncountysc.org
SUMMARY:REEVES CONSTRUCTION / FOR SCHP
DESCRIPTION:REQUESTING A DEPUTY TO ASSIST SCHP TO SLOW TRAFFIC WHILE CONSTRUCTION CREW WORKS ON I-85. *THEY MAY GO OUTSIDE THE COUNTY OF ANDERSON INTO OCONEE BUT THIS HAS BEEN APPOVED UNDER MUTUAL AID* \n$50 PAY RATE  **YOU MUST EMAIL ME THE EXACT HOURS YOU WORK** \nNIGHTLY\, PLEASE REACH OUT TO LET ME KNOW THE IF YOU WORK PAST THE HOURS STATED \nPOINT OF CONTACT… \nMR. CHEN 8646125419 ****PLEASE CALL HIM WHEN ENROUTE****
URL:https://sheriff.andersoncountysc.org/event/reeves-construction-for-schp-27-2026-03-25-2026-04-01-2026-05-01/
LOCATION:SC
ATTACH;FMTTYPE=image/jpeg:https://sheriff.andersoncountysc.org/wp-content/uploads/sites/12/2025/04/REEVES-CONSTRUCTION.jpg
END:VEVENT
BEGIN:VEVENT
DTSTART;TZID=America/New_York:20260501T220000
DTEND;TZID=America/New_York:20260502T070000
DTSTAMP:20260424T111427
CREATED:20260423T141259Z
LAST-MODIFIED:20260423T141259Z
UID:22296-1777672800-1777705200@sheriff.andersoncountysc.org
SUMMARY:RHYTHM ON THE RIVER
DESCRIPTION:REQUESTING A DEPUTY FOR OVERNIGHT COVERAGE BEFORE THE EVENT \nFRIDAY\, MAY 1ST  10PM-7AM \n$50 PAY RATE \nPOINT OF CONTACT – MARTY ELLIOTT \nWe request that the sheriff park their car / run lights and remain visible near the setup\, stage\, and vendors for the Rhythm on the River festival.  We will be on location when they arrive to discuss in further detail. However\, if you have any advance questions\, please feel free to call me at 864-207-4000.
URL:https://sheriff.andersoncountysc.org/event/rhythm-on-the-river-6/
LOCATION:DOLLY COOPER PARK\, 170 SPEARMAN CIR\, GREENVILLE\, SC\, 29611\, United States
ATTACH;FMTTYPE=image/jpeg:https://sheriff.andersoncountysc.org/wp-content/uploads/sites/12/2026/04/RHYTHM-ON-THE-RIVER-2026.jpg
END:VEVENT
BEGIN:VEVENT
DTSTART;TZID=America/New_York:20260502T110000
DTEND;TZID=America/New_York:20260502T170000
DTSTAMP:20260424T111427
CREATED:20260331T200052Z
LAST-MODIFIED:20260331T191756Z
UID:21932-1777719600-1777741200@sheriff.andersoncountysc.org
SUMMARY:2026 GREAT ANDERSON COUNTY FAIR
DESCRIPTION:*PLEASE NOTE THIS IS THE GEORGE STRAIGHT CONCERT DATE AS WELL *  \n***YOU CAN’T WORK BOTH*** \nAPRIL 30 – MAY 10 \n*PAY RATE $50 PER HOUR* \nYOU WILL BE ASSIGNED TO A SPECIFIC AREA\, WALK AROUND AND BE SEEN. \nPLEASE LIMIT CELL PHONE USAGE WHILE WORKING
URL:https://sheriff.andersoncountysc.org/event/2026-great-anderson-county-fair-3/
LOCATION:ANDERSON CIVIC CENTER\, 3027 MARTIN LUTHER KING JR BLVD\, ANDERSON\, SC\, 29625\, United States
ATTACH;FMTTYPE=image/png:https://sheriff.andersoncountysc.org/wp-content/uploads/sites/12/2022/04/ANDERSON-FAIR.png
END:VEVENT
BEGIN:VEVENT
DTSTART;TZID=America/New_York:20260502T170000
DTEND;TZID=America/New_York:20260502T233000
DTSTAMP:20260424T111427
CREATED:20260331T200023Z
LAST-MODIFIED:20260331T191851Z
UID:21920-1777741200-1777764600@sheriff.andersoncountysc.org
SUMMARY:2026 GREAT ANDERSON COUNTY FAIR
DESCRIPTION:*PLEASE NOTE THIS IS THE GEORGE STRAIGHT CONCERT DATE AS WELL* \n***YOU CAN’T WORK BOTH*** \nAPRIL 30 – MAY 10 \n*PAY RATE $50 PER HOUR* \nYOU WILL BE ASSIGNED TO A SPECIFIC AREA\, WALK AROUND AND BE SEEN. \nPLEASE LIMIT CELL PHONE USAGE WHILE WORKING
URL:https://sheriff.andersoncountysc.org/event/2026-great-anderson-county-fair-2-2026-05-02/
LOCATION:ANDERSON CIVIC CENTER\, 3027 MARTIN LUTHER KING JR BLVD\, ANDERSON\, SC\, 29625\, United States
ATTACH;FMTTYPE=image/png:https://sheriff.andersoncountysc.org/wp-content/uploads/sites/12/2022/04/ANDERSON-FAIR.png
END:VEVENT
BEGIN:VEVENT
DTSTART;TZID=America/New_York:20260502T180000
DTEND;TZID=America/New_York:20260502T230000
DTSTAMP:20260424T111427
CREATED:20260319T200002Z
LAST-MODIFIED:20260422T122406Z
UID:22293-1777744800-1777762800@sheriff.andersoncountysc.org
SUMMARY:LACEE MEADOWS VENUE
DESCRIPTION:REQUESTING A DEPUTY FOR A WEDDING \n5/2/2026  6PM-11PM \nPOINT OF CONTACT IS Cecilia Wooten \n$50 PAY RATE \nPLEASE LIMIT CELL PHONE USAGE WHILE WORKING. PLEASE WALK AROUND AND BE SEEN.
URL:https://sheriff.andersoncountysc.org/event/lacee-meadows-venue-11-2026-04-25-2026-05-02/
LOCATION:LACEE MEADOWS\, 150 DENIM AND LACE LN\, BELTON\, SC\, 29627\, United States
ATTACH;FMTTYPE=image/png:https://sheriff.andersoncountysc.org/wp-content/uploads/sites/12/2024/04/Lacee-Meadows-Logo.png
END:VEVENT
BEGIN:VEVENT
DTSTART;TZID=America/New_York:20260502T200000
DTEND;TZID=America/New_York:20260503T000000
DTSTAMP:20260424T111427
CREATED:20260220T210005Z
LAST-MODIFIED:20260417T175233Z
UID:22188-1777752000-1777766400@sheriff.andersoncountysc.org
SUMMARY:LOUIE'S
DESCRIPTION:REQUESTING A DEPUTY FOR SECURITY \nTHURSDAY\, FRIDAY\, & SATURDAY NIGHTS \nTIMES WILL VARY \n$50 PAY RATE \nPLEASE LIMIT CELL PHONE USAGE WHILE WORKING\, PLEASE WALK AROUND AND BE SEEN
URL:https://sheriff.andersoncountysc.org/event/louies-13-2026-03-28-2026-04-25-2026-05-02/
LOCATION:LOUIE’S BAR AND GRILL\, 100 ELECTRIC CITY BLVD\, ANDERSON\, SC\, United States
ATTACH;FMTTYPE=image/jpeg:https://sheriff.andersoncountysc.org/wp-content/uploads/sites/12/2025/08/LOUIES.jpg
END:VEVENT
BEGIN:VEVENT
DTSTART;TZID=America/New_York:20260503T083000
DTEND;TZID=America/New_York:20260503T123000
DTSTAMP:20260424T111427
CREATED:20260415T123327Z
LAST-MODIFIED:20260417T154334Z
UID:22149-1777797000-1777811400@sheriff.andersoncountysc.org
SUMMARY:PENDLETON METHODIST CHURCH
DESCRIPTION:REQUESTING LAW ENFORCEMENT PRESENCE AT THE CHURCH DURING SERVICES \nSUNDAY MORNING SERVICES \n8:30AM-12:30PM \n$50 PAY RATE
URL:https://sheriff.andersoncountysc.org/event/pendleton-methodist-church-2026-04-26-2026-05-03/
LOCATION:PENDLETON METHODIST CHURCH\, 217 S BROAD ST\, PENDLETON\, SC\, United States
ATTACH;FMTTYPE=image/jpeg:https://sheriff.andersoncountysc.org/wp-content/uploads/sites/12/2026/04/PENDLETON-METHODIST.jpg
END:VEVENT
BEGIN:VEVENT
DTSTART;TZID=America/New_York:20260503T090000
DTEND;TZID=America/New_York:20260503T120000
DTSTAMP:20260424T111427
CREATED:20260220T210024Z
LAST-MODIFIED:20260417T154800Z
UID:22168-1777798800-1777809600@sheriff.andersoncountysc.org
SUMMARY:VILLAGE CHURCH OF PENDLETON
DESCRIPTION:REQUESTING A DEPUTY ONSITE FOR SERVICES AT PENDLETON ELEMENTARY SCHOOL \n$60 PAY RATE  \nPLEASE LIMIT CELL PHONE USAGE WHILE WORKING. JOB DETAILS BELOW. \nRegarding special duties\, we would like the Officer to do the following: \n\n9a:\n\nWhen arriving\, please drive the perimeter of the school in the front and rear parking lot.\nPark car near sidewalk near the gym entrance in the front parking lot.\n\n\n9-1200 (service time is from 10-1130a):\n\nPrimarily stand inside the foyer.\nEvery now and then walk the main hallway which goes around the Gym and ends at the Band room.\nSafety Team and Ushers will be collecting offerings. Would like officer to observe while offering is taken to safe. Details to be determined.\n\n\nAt least once during the morning\, drive through the front parking lot and rear parking area (if open).
URL:https://sheriff.andersoncountysc.org/event/village-church-of-pendleton-8-2026-03-29-2026-04-26-2026-05-03/
LOCATION:PENDLETON ELEMENTARY SCHOOL\, 902 E QUEEN ST\, PENDLETON\, SC\, United States
ATTACH;FMTTYPE=image/png:https://sheriff.andersoncountysc.org/wp-content/uploads/sites/12/2025/03/rxqiarn9.png
END:VEVENT
BEGIN:VEVENT
DTSTART;TZID=America/New_York:20260503T090000
DTEND;TZID=America/New_York:20260503T120000
DTSTAMP:20260424T111427
CREATED:20260417T200032Z
LAST-MODIFIED:20260417T152220Z
UID:22068-1777798800-1777809600@sheriff.andersoncountysc.org
SUMMARY:FOOTHILLS CHURCH
DESCRIPTION:REQUESTING A DEPUTY FOR SUNDAY MORNING SERVICES AT PENDLETON HIGH SCHOOL \n9AM-12PM    *$60 PAY RATE* \nPLEASE LIMIT CELL PHONE USAGE WHILE WORKING CHECK IN WITH JOSEPH BENNETT UPON ARRIVAL \nDO NOT JUST SIT IN THE PARKING LOT
URL:https://sheriff.andersoncountysc.org/event/foothills-church-26/
LOCATION:PENDLETON HIGH SCHOOL\, 7324 HIGHWAY 187\, PENDLETON\, SC\, United States
ATTACH;FMTTYPE=image/jpeg:https://sheriff.andersoncountysc.org/wp-content/uploads/sites/12/2024/10/FOOTHILLS.jpg
END:VEVENT
BEGIN:VEVENT
DTSTART;TZID=America/New_York:20260503T090000
DTEND;TZID=America/New_York:20260503T130000
DTSTAMP:20260424T111427
CREATED:20260220T210027Z
LAST-MODIFIED:20260420T142410Z
UID:22111-1777798800-1777813200@sheriff.andersoncountysc.org
SUMMARY:HOPE FELLOWSHIP
DESCRIPTION:REQUESTING A DEPUTY FOR SUNDAY MORNING AND WEDNESDAY SERVICES \n$50 PAY RATE \nSunday – Youth Position 9am-1pm \nWednesday – Youth Position 6pm-9pm \nPark left of main entrance\, provide security in back right corner for Hope Kids. \nPOC: Rick Davis (864)617-5028
URL:https://sheriff.andersoncountysc.org/event/hope-fellowship-14-2026-03-29-2026-04-26-2026-05-03/
LOCATION:HOPE FELLOWSHIP\, 213 BROWN RD\, ANDERSON\, SC\, United States
ATTACH;FMTTYPE=image/jpeg:https://sheriff.andersoncountysc.org/wp-content/uploads/sites/12/2025/03/HOPE-FELLOWSHIP.jpg
END:VEVENT
BEGIN:VEVENT
DTSTART;TZID=America/New_York:20260503T090000
DTEND;TZID=America/New_York:20260503T130000
DTSTAMP:20260424T111427
CREATED:20260220T210057Z
LAST-MODIFIED:20260420T142255Z
UID:22116-1777798800-1777813200@sheriff.andersoncountysc.org
SUMMARY:HOPE FELLOWSHIP
DESCRIPTION:REQUESTING A DEPUTY FOR SUNDAY MORNING SERVICES \n$50 PAY RATE \nSunday – Traffic Position \nPark left of main entrance\, provide security in lobby and traffic direction after each service. \nHours: 9am-1pm \nPOC: Rick Davis (864)617-5028
URL:https://sheriff.andersoncountysc.org/event/hope-fellowship-13-2026-03-27-2026-03-29-2026-04-26-2026-05-03/
LOCATION:HOPE FELLOWSHIP\, 213 BROWN RD\, ANDERSON\, SC\, United States
ATTACH;FMTTYPE=image/jpeg:https://sheriff.andersoncountysc.org/wp-content/uploads/sites/12/2025/03/HOPE-FELLOWSHIP.jpg
END:VEVENT
BEGIN:VEVENT
DTSTART;TZID=America/New_York:20260503T093000
DTEND;TZID=America/New_York:20260503T123000
DTSTAMP:20260424T111427
CREATED:20260220T210017Z
LAST-MODIFIED:20260417T152934Z
UID:22101-1777800600-1777811400@sheriff.andersoncountysc.org
SUMMARY:GOSPEL LIGHT BAPTIST CHURCH
DESCRIPTION:SUNDAY MORNING SERVICES \nASSISTING WITH TRAFFIC CONTROL \n9:30AM-12:30PM \n$60 PAY RATE \nPLEASE LIMIT CELL PHONE USAGE WHILE WORKING
URL:https://sheriff.andersoncountysc.org/event/gospel-light-baptist-church-17-2026-03-29-2026-04-26-2026-05-03/
LOCATION:GOSPEL LIGHT CHURCH\, 3000 MIDWAY RD\, ANDERSON\, SC\, United States
ATTACH;FMTTYPE=image/jpeg:https://sheriff.andersoncountysc.org/wp-content/uploads/sites/12/2023/10/Gospel-Light.jpg
END:VEVENT
BEGIN:VEVENT
DTSTART;TZID=America/New_York:20260503T093000
DTEND;TZID=America/New_York:20260503T123000
DTSTAMP:20260424T111427
CREATED:20260323T131116Z
LAST-MODIFIED:20260417T152715Z
UID:22063-1777800600-1777811400@sheriff.andersoncountysc.org
SUMMARY:FAITH FELLOWSHIP BAPTIST CHURCH
DESCRIPTION:REQUESTING LAW ENFORCEMENT PRESENCE AT THE CHURCH DURING SERVICES \nSUNDAY MORNING SERVICES \n9:30AM-12:30PM \n$50 PAY RATE \nPOINT OF CONTACT- GARRETT FRICKS 646-2449 \nPLEASE WALK AROUND A BE SEEN. YOU WILL NEED TO CHECK IN SO THEY ARE AWARE THAT YOU ARE ONSITE.
URL:https://sheriff.andersoncountysc.org/event/faith-fellowship-baptist-church-5-2026-04-26-2026-05-03/
LOCATION:FAITH FELLOWSHIP BAPTIST CHURCH\, 2230 OLD GREENVILLE HWY\, PENDLETON\, SC\, United States
ATTACH;FMTTYPE=image/png:https://sheriff.andersoncountysc.org/wp-content/uploads/sites/12/2025/09/Faith-Fellowship.png
END:VEVENT
BEGIN:VEVENT
DTSTART;TZID=America/New_York:20260503T100000
DTEND;TZID=America/New_York:20260503T123000
DTSTAMP:20260424T111427
CREATED:20260220T210023Z
LAST-MODIFIED:20260417T152713Z
UID:22053-1777802400-1777811400@sheriff.andersoncountysc.org
SUMMARY:1334 CHURCH/MARATHON CHURCH
DESCRIPTION:SUNDAY MORNING SERVICES \n10AM-12:30PM \nVOLUNTEERS WILL ARRIVE AT 10AM. SERVICE IS FROM 10:30AM-12PM \n***YOU MUST GO INSIDE WHEN YOU ARRIVE AND BEFORE YOU LEAVE TO RECEIVE INSTRUCTIONS*** \nDO NOT JUST PARK AT THE END OF THE LOT AND SIT \n***NEW LOCATION/TIME- AMPLIFY SPORTS 100 POWERS BLVD. PIEDMONT SC*** \n$50 PAY RATE
URL:https://sheriff.andersoncountysc.org/event/1334-church-marathon-church-3-2026-03-29-2026-04-26-2026-05-03/
LOCATION:Private: AMPLIFY SPORTS\, 100 POWERS BLVD\, PIEDMONT\, United States
ATTACH;FMTTYPE=image/jpeg:https://sheriff.andersoncountysc.org/wp-content/uploads/sites/12/2026/01/1334-Church.jpg
END:VEVENT
BEGIN:VEVENT
DTSTART;TZID=America/New_York:20260503T103000
DTEND;TZID=America/New_York:20260503T133000
DTSTAMP:20260424T111427
CREATED:20260220T210021Z
LAST-MODIFIED:20260417T180557Z
UID:22154-1777804200-1777815000@sheriff.andersoncountysc.org
SUMMARY:REDEMPTION CHURCH
DESCRIPTION:SUNDAY MORNING SERVICES \nASSISTING WITH TRAFFIC CONTROL (1 WORKING THE LIGHT) \nREQUESTING 2 DEPUTIES \n10:30AM-1:30PM (USUALLY DONE BY 1PM) \n$60 PAY RATE \nLOCATED AT 315 ROE RD. GREENVILLE
URL:https://sheriff.andersoncountysc.org/event/redemption-church-13-2026-03-29-2026-04-26-2026-05-03/
LOCATION:MARATHON CHURCH\, 315 ROE RD\, GREENVILLE\, SC\, 29611\, United States
ATTACH;FMTTYPE=image/jpeg:https://sheriff.andersoncountysc.org/wp-content/uploads/sites/12/2024/08/redemption-2.jpg
END:VEVENT
END:VCALENDAR