BEGIN:VCALENDAR
VERSION:2.0
PRODID:-//Sheriff Extra Duty - ECPv6.15.7//NONSGML v1.0//EN
CALSCALE:GREGORIAN
METHOD:PUBLISH
X-WR-CALNAME:Sheriff Extra Duty
X-ORIGINAL-URL:https://sheriff.andersoncountysc.org
X-WR-CALDESC:Events for Sheriff Extra Duty
REFRESH-INTERVAL;VALUE=DURATION:PT1H
X-Robots-Tag:noindex
X-PUBLISHED-TTL:PT1H
BEGIN:VTIMEZONE
TZID:America/New_York
BEGIN:DAYLIGHT
TZOFFSETFROM:-0500
TZOFFSETTO:-0400
TZNAME:EDT
DTSTART:20250309T070000
END:DAYLIGHT
BEGIN:STANDARD
TZOFFSETFROM:-0400
TZOFFSETTO:-0500
TZNAME:EST
DTSTART:20251102T060000
END:STANDARD
BEGIN:DAYLIGHT
TZOFFSETFROM:-0500
TZOFFSETTO:-0400
TZNAME:EDT
DTSTART:20260308T070000
END:DAYLIGHT
BEGIN:STANDARD
TZOFFSETFROM:-0400
TZOFFSETTO:-0500
TZNAME:EST
DTSTART:20261101T060000
END:STANDARD
BEGIN:DAYLIGHT
TZOFFSETFROM:-0500
TZOFFSETTO:-0400
TZNAME:EDT
DTSTART:20270314T070000
END:DAYLIGHT
BEGIN:STANDARD
TZOFFSETFROM:-0400
TZOFFSETTO:-0500
TZNAME:EST
DTSTART:20271107T060000
END:STANDARD
END:VTIMEZONE
BEGIN:VEVENT
DTSTART;TZID=America/New_York:20260422T073000
DTEND;TZID=America/New_York:20260422T113000
DTSTAMP:20260422T014416
CREATED:20260319T200017Z
LAST-MODIFIED:20260421T141018Z
UID:21830-1776843000-1776857400@sheriff.andersoncountysc.org
SUMMARY:NEW COVENANT SCHOOL
DESCRIPTION:REQUESTING A DEPUTY’S PRESENCE AT THE SCHOOL \nPLEASE WALK AROUND AND BE SEEN \nDO NOT JUST SIT IN YOUR CAR \nPLEASE LIMIT YOUR CELL PHONE USAGE WHILE WORKING \n$40 PAY RATE
URL:https://sheriff.andersoncountysc.org/event/new-covenant-school-16-2026-04-22/
LOCATION:NEW COVENANT SCHOOL\, 303 SIMPSON RD\, ANDERSON\, SC\, 29621\, United States
ATTACH;FMTTYPE=image/png:https://sheriff.andersoncountysc.org/wp-content/uploads/sites/12/2024/08/NEW-COVENANT.png
END:VEVENT
END:VCALENDAR