BEGIN:VCALENDAR
VERSION:2.0
PRODID:-//Sheriff Extra Duty - ECPv6.15.7//NONSGML v1.0//EN
CALSCALE:GREGORIAN
METHOD:PUBLISH
X-WR-CALNAME:Sheriff Extra Duty
X-ORIGINAL-URL:https://sheriff.andersoncountysc.org
X-WR-CALDESC:Events for Sheriff Extra Duty
REFRESH-INTERVAL;VALUE=DURATION:PT1H
X-Robots-Tag:noindex
X-PUBLISHED-TTL:PT1H
BEGIN:VTIMEZONE
TZID:America/New_York
BEGIN:DAYLIGHT
TZOFFSETFROM:-0500
TZOFFSETTO:-0400
TZNAME:EDT
DTSTART:20250309T070000
END:DAYLIGHT
BEGIN:STANDARD
TZOFFSETFROM:-0400
TZOFFSETTO:-0500
TZNAME:EST
DTSTART:20251102T060000
END:STANDARD
BEGIN:DAYLIGHT
TZOFFSETFROM:-0500
TZOFFSETTO:-0400
TZNAME:EDT
DTSTART:20260308T070000
END:DAYLIGHT
BEGIN:STANDARD
TZOFFSETFROM:-0400
TZOFFSETTO:-0500
TZNAME:EST
DTSTART:20261101T060000
END:STANDARD
BEGIN:DAYLIGHT
TZOFFSETFROM:-0500
TZOFFSETTO:-0400
TZNAME:EDT
DTSTART:20270314T070000
END:DAYLIGHT
BEGIN:STANDARD
TZOFFSETFROM:-0400
TZOFFSETTO:-0500
TZNAME:EST
DTSTART:20271107T060000
END:STANDARD
END:VTIMEZONE
BEGIN:VEVENT
DTSTART;TZID=America/New_York:20260427T080000
DTEND;TZID=America/New_York:20260427T160000
DTSTAMP:20260424T194501
CREATED:20260423T152952Z
LAST-MODIFIED:20260424T203304Z
UID:22306-1777276800-1777305600@sheriff.andersoncountysc.org
SUMMARY:ELECTROLUX
DESCRIPTION:REQUESTING A DEPUTY ONSIDE DUE TO AN EMPLOYEE ISSUE\n8AM-4PM \n$50 PAY RATE \nPOINT OF CONTACT – CAPTAIN TYRONE WILLIAMS
URL:https://sheriff.andersoncountysc.org/event/electrolux/2026-04-27/
LOCATION:ELECTROLUX\, 101 MASTERS BLVD\, ANDERSON\, SC\, United States
ATTACH;FMTTYPE=image/jpeg:https://sheriff.andersoncountysc.org/wp-content/uploads/sites/12/2022/04/electrolux.jpg
END:VEVENT
BEGIN:VEVENT
DTSTART;TZID=America/New_York:20260428T080000
DTEND;TZID=America/New_York:20260428T160000
DTSTAMP:20260424T194501
CREATED:20260423T152952Z
LAST-MODIFIED:20260424T203305Z
UID:22307-1777363200-1777392000@sheriff.andersoncountysc.org
SUMMARY:ELECTROLUX
DESCRIPTION:REQUESTING A DEPUTY ONSIDE DUE TO AN EMPLOYEE ISSUE\n8AM-4PM \n$50 PAY RATE \nPOINT OF CONTACT – CAPTAIN TYRONE WILLIAMS
URL:https://sheriff.andersoncountysc.org/event/electrolux/2026-04-28/
LOCATION:ELECTROLUX\, 101 MASTERS BLVD\, ANDERSON\, SC\, United States
ATTACH;FMTTYPE=image/jpeg:https://sheriff.andersoncountysc.org/wp-content/uploads/sites/12/2022/04/electrolux.jpg
END:VEVENT
BEGIN:VEVENT
DTSTART;TZID=America/New_York:20260429T080000
DTEND;TZID=America/New_York:20260429T160000
DTSTAMP:20260424T194501
CREATED:20260423T152952Z
LAST-MODIFIED:20260424T203306Z
UID:22308-1777449600-1777478400@sheriff.andersoncountysc.org
SUMMARY:ELECTROLUX
DESCRIPTION:REQUESTING A DEPUTY ONSIDE DUE TO AN EMPLOYEE ISSUE\n8AM-4PM \n$50 PAY RATE \nPOINT OF CONTACT – CAPTAIN TYRONE WILLIAMS
URL:https://sheriff.andersoncountysc.org/event/electrolux/2026-04-29/
LOCATION:ELECTROLUX\, 101 MASTERS BLVD\, ANDERSON\, SC\, United States
ATTACH;FMTTYPE=image/jpeg:https://sheriff.andersoncountysc.org/wp-content/uploads/sites/12/2022/04/electrolux.jpg
END:VEVENT
BEGIN:VEVENT
DTSTART;TZID=America/New_York:20260430T080000
DTEND;TZID=America/New_York:20260430T160000
DTSTAMP:20260424T194501
CREATED:20260423T152952Z
LAST-MODIFIED:20260424T203307Z
UID:22309-1777536000-1777564800@sheriff.andersoncountysc.org
SUMMARY:ELECTROLUX
DESCRIPTION:REQUESTING A DEPUTY ONSIDE DUE TO AN EMPLOYEE ISSUE\n8AM-4PM \n$50 PAY RATE \nPOINT OF CONTACT – CAPTAIN TYRONE WILLIAMS
URL:https://sheriff.andersoncountysc.org/event/electrolux/2026-04-30/
LOCATION:ELECTROLUX\, 101 MASTERS BLVD\, ANDERSON\, SC\, United States
ATTACH;FMTTYPE=image/jpeg:https://sheriff.andersoncountysc.org/wp-content/uploads/sites/12/2022/04/electrolux.jpg
END:VEVENT
BEGIN:VEVENT
DTSTART;TZID=America/New_York:20260501T080000
DTEND;TZID=America/New_York:20260501T160000
DTSTAMP:20260424T194501
CREATED:20260423T152952Z
LAST-MODIFIED:20260424T203307Z
UID:22310-1777622400-1777651200@sheriff.andersoncountysc.org
SUMMARY:ELECTROLUX
DESCRIPTION:REQUESTING A DEPUTY ONSIDE DUE TO AN EMPLOYEE ISSUE\n8AM-4PM \n$50 PAY RATE \nPOINT OF CONTACT – CAPTAIN TYRONE WILLIAMS
URL:https://sheriff.andersoncountysc.org/event/electrolux/2026-05-01/
LOCATION:ELECTROLUX\, 101 MASTERS BLVD\, ANDERSON\, SC\, United States
ATTACH;FMTTYPE=image/jpeg:https://sheriff.andersoncountysc.org/wp-content/uploads/sites/12/2022/04/electrolux.jpg
END:VEVENT
END:VCALENDAR